BEGIN:VCALENDAR
VERSION:2.0
PRODID:-//EmptyLegs.net - ECPv6.13.2.1//NONSGML v1.0//EN
CALSCALE:GREGORIAN
METHOD:PUBLISH
X-ORIGINAL-URL:https://emptylegs.net
X-WR-CALDESC:Events for EmptyLegs.net
REFRESH-INTERVAL;VALUE=DURATION:PT1H
X-Robots-Tag:noindex
X-PUBLISHED-TTL:PT1H
BEGIN:VTIMEZONE
TZID:America/New_York
BEGIN:DAYLIGHT
TZOFFSETFROM:-0500
TZOFFSETTO:-0400
TZNAME:EDT
DTSTART:20260308T070000
END:DAYLIGHT
BEGIN:STANDARD
TZOFFSETFROM:-0400
TZOFFSETTO:-0500
TZNAME:EST
DTSTART:20261101T060000
END:STANDARD
END:VTIMEZONE
BEGIN:VEVENT
DTSTART;TZID=America/New_York:20260422T042518
DTEND;TZID=America/New_York:20260422T042518
DTSTAMP:20260422T042518
CREATED:20230207T155243Z
LAST-MODIFIED:20240108T182909Z
UID:4380-1776831918-1776831918@emptylegs.net
SUMMARY:Quebec Winter Carnival
DESCRIPTION:The Quebec Winter Carnival\, also known as Carnaval de Québec\, is a vibrant and iconic winter celebration held annually in Quebec City\, Canada. This enchanting event typically takes place in late January to early February\, transforming the historic Old Quebec into a magical winter wonderland. Visitors and locals alike gather to revel in the festivities\, which include ice sculptures\, parades\, snow slides\, snow sculptures\, and a host of outdoor activities such as ice skating\, dog sledding\, and snowshoeing. A beloved tradition for over a century\, the Quebec Winter Carnival captures the spirit of the season and showcases the unique culture and joie de vivre of the Quebecois people. \nCheck Flight Availability
URL:https://emptylegs.net/event/quebec-winter-carnival/
CATEGORIES:Festivals
END:VEVENT
BEGIN:VEVENT
DTSTART;TZID=America/New_York:20260422T042518
DTEND;TZID=America/New_York:20260422T042518
DTSTAMP:20260422T042518
CREATED:20230207T160054Z
LAST-MODIFIED:20240108T223257Z
UID:4383-1776831918-1776831918@emptylegs.net
SUMMARY:Rio Carnival in Brazil
DESCRIPTION:The Rio Carnival in Brazil is one of the world’s most exuberant and captivating cultural celebrations. Held annually in Rio de Janeiro\, typically in February or March\, this vibrant event is a dazzling spectacle of music\, dance\, and colorful costumes that captures the essence of Brazilian culture. Samba parades\, featuring elaborate floats and samba schools with thousands of dancers\, take center stage at the Sambadrome\, while street parties\, known as blocos\, erupt throughout the city\, creating an infectious party atmosphere. \nMillions of locals and tourists alike come together to revel in the festivities\, showcasing their love for music and dance as they move to the rhythm of samba and other Brazilian beats.  \nCheck Flight Availability
URL:https://emptylegs.net/event/rio-carnival-in-brazil/
CATEGORIES:Festivals
END:VEVENT
BEGIN:VEVENT
DTSTART;TZID=America/New_York:20260422T042518
DTEND;TZID=America/New_York:20260422T042518
DTSTAMP:20260422T042518
CREATED:20230207T153936Z
LAST-MODIFIED:20240108T195243Z
UID:4374-1776831918-1776831918@emptylegs.net
SUMMARY:Super Bowl LVIII
DESCRIPTION:Super Bowl LVIII is the upcoming American football championship game of the National Football League (NFL) for the 2023 season and is scheduled to be played on February 11\, 2024\, at Allegiant Stadium in Paradise\, Nevada. This is the first Super Bowl that will be held in Nevada. It will mark the third straight year that the Super Bowl has been played in the Western United States\, following host cities Los Angeles\, California\, in 2022 and Phoenix\, Arizona\, in 2023.  \n \nThis is the time to  go large or don’t go at all. Midsized and Heavy Jets dominate the empty leg requests we receive with big time ballers looking to have a good time.  \nCheck Flight Availability
URL:https://emptylegs.net/event/superbowl/
CATEGORIES:sporting events
END:VEVENT
BEGIN:VEVENT
DTSTART;TZID=America/New_York:20260422T042518
DTEND;TZID=America/New_York:20260422T042518
DTSTAMP:20260422T042518
CREATED:20230207T163659Z
LAST-MODIFIED:20240108T223422Z
UID:4391-1776831918-1776831918@emptylegs.net
SUMMARY:Mardi Gras Fat Tuesday
DESCRIPTION:Mardi Gras\, also known as Fat Tuesday\, is a vibrant and festive holiday celebrated around the world\, but most notably in New Orleans\, Louisiana. Falling on the day before Ash Wednesday\, which marks the beginning of the Christian season of Lent\, Mardi Gras is a day of indulgence and revelry. People don colorful costumes\, masks\, and beads\, taking to the streets to join grand parades and lively festivities. \nThe day is characterized by an abundance of rich\, indulgent foods and drinks\, as it’s the last opportunity to enjoy such treats before the solemn period of fasting and reflection during Lent. Mardi Gras represents a joyful and spirited celebration of life\, music\, and culture\, with its origins dating back centuries\, and it continues to be a beloved tradition that brings communities together in a spirit of joy and camaraderie. \nCheck Flight Availability
URL:https://emptylegs.net/event/mardi-gras-fat-tuesday/
CATEGORIES:Festivals,Holidays
END:VEVENT
BEGIN:VEVENT
DTSTART;TZID=America/New_York:20260422T042518
DTEND;TZID=America/New_York:20260422T042518
DTSTAMP:20260422T042518
CREATED:20230207T162850Z
LAST-MODIFIED:20240108T200753Z
UID:4386-1776831918-1776831918@emptylegs.net
SUMMARY:Miami International Boat Show
DESCRIPTION:The Miami International Boat Show is an annual marine extravaganza that takes place in Miami\, Florida\, typically during February. This world-renowned event is a paradise for boating and water enthusiasts\, offering a vast and diverse showcase of boats\, yachts\, and marine products. With its picturesque waterfront location and warm weather\, the show creates a captivating atmosphere where visitors can explore the latest vessel innovations\, cutting-edge technology\, and accessories for all their boating needs. \n \nFrom luxury mega-yachts to small\, innovative watercraft\, the Miami International Boat Show is a hub of maritime excellence\, drawing boat aficionados\, industry professionals\, and curious onlookers alike. It not only celebrates the maritime lifestyle but also serves as a dynamic marketplace and networking opportunity for the global boating industry \nCheck Flight Availability
URL:https://emptylegs.net/event/miami-international-boat-show/
CATEGORIES:Boat Shows
END:VEVENT
END:VCALENDAR