BEGIN:VCALENDAR
VERSION:2.0
PRODID:-//EmptyLegs.net - ECPv6.13.2.1//NONSGML v1.0//EN
CALSCALE:GREGORIAN
METHOD:PUBLISH
X-WR-CALNAME:EmptyLegs.net
X-ORIGINAL-URL:https://emptylegs.net
X-WR-CALDESC:Events for EmptyLegs.net
REFRESH-INTERVAL;VALUE=DURATION:PT1H
X-Robots-Tag:noindex
X-PUBLISHED-TTL:PT1H
BEGIN:VTIMEZONE
TZID:America/New_York
BEGIN:DAYLIGHT
TZOFFSETFROM:-0500
TZOFFSETTO:-0400
TZNAME:EDT
DTSTART:20260308T070000
END:DAYLIGHT
BEGIN:STANDARD
TZOFFSETFROM:-0400
TZOFFSETTO:-0500
TZNAME:EST
DTSTART:20261101T060000
END:STANDARD
END:VTIMEZONE
BEGIN:VEVENT
DTSTART;TZID=America/New_York:20260422T185455
DTEND;TZID=America/New_York:20260422T185455
DTSTAMP:20260422T185455
CREATED:20231010T142040Z
LAST-MODIFIED:20231010T142754Z
UID:5432-1776884095-1776884095@emptylegs.net
SUMMARY:Major League Baseball World Series
DESCRIPTION:The MLB World Series\, Oct 27th-Nov 4th\, is the ultimate showdown in American baseball\, a culmination of the season’s hard-fought battles and fierce competition. For over a century\, this annual championship series has captivated fans with its thrilling games\, iconic moments\, and the pursuit of baseball glory. With the best teams from the American League and the National League facing off in a best-of-seven series\, the World Series is a spectacle of skill\, strategy\, and heart-pounding action. \nIt’s not just a sporting event; it’s a piece of American history\, where legends are born\, and champions are crowned. Whether you’re a die-hard fan or just looking for a taste of the excitement\, the MLB World Series is a must-watch event that brings the nation together every October.
URL:https://emptylegs.net/event/major-league-baseball-world-series/
CATEGORIES:Baseball,World Series
END:VEVENT
BEGIN:VEVENT
DTSTART;TZID=America/New_York:20260422T185455
DTEND;TZID=America/New_York:20260422T185455
DTSTAMP:20260422T185456
CREATED:20231010T135433Z
LAST-MODIFIED:20231010T143912Z
UID:5422-1776884095-1776884095@emptylegs.net
SUMMARY:The Day of the Dead
DESCRIPTION:The Day of the Dead\, Oct 31st-Nov 2nd\, an annual commemoration\, revolves around heartfelt gatherings of loved ones to offer prayers and fond remembrances for friends and family who have departed from this world. While this poignant tradition holds special significance in Mexico\, where it takes on the status of a national holiday\, it is also embraced by diverse cultures worldwide.  \nCentral to the observance are customs that include the creation of private altars known as “ofrendas\,” which serve as a sacred space for honoring the departed. These altars are adorned with intricate sugar skulls\, vibrant marigolds\, and an array of the deceased’s favorite foods and beverages\, creating a tangible connection between the living and the departed souls. \nA meaningful aspect of the tradition involves visiting gravesites bearing these offerings as tokens of love and remembrance. In various locales\, the Day of the Dead celebration takes on unique dimensions\, incorporating colorful parades and festivities reminiscent of Halloween. These festivities underscore the universal human desire to remember and celebrate the lives of those who have passed away\, uniting communities around the world in a shared embrace of this profound and deeply meaningful tradition.
URL:https://emptylegs.net/event/the-day-of-the-dead/
CATEGORIES:Festivals
END:VEVENT
BEGIN:VEVENT
DTSTART;TZID=America/New_York:20260422T185455
DTEND;TZID=America/New_York:20260422T185455
DTSTAMP:20260422T185456
CREATED:20231010T133628Z
LAST-MODIFIED:20231010T144101Z
UID:5416-1776884095-1776884095@emptylegs.net
SUMMARY:Diwali
DESCRIPTION:Diwali\, November 12th\, also known as the “Festival of Lights\,” is a vibrant and culturally rich celebration that extends for around five official days but often lasts even longer. During this festival\, people engage in a multitude of traditions\, including the exchange of gifts\, the lighting of butter and oil lanterns\, and the spectacular display of fireworks. However\, the festival’s exuberance extends beyond its designated duration\, with fireworks illuminating the skies throughout this festive season.  \nDiwali is a time when many Indians choose to take their holidays\, either during the festival itself or immediately after. As a result\, cities across India can become bustling hubs of internal tourism\, drawing visitors from various regions to partake in the festivities. The atmosphere during Diwali is nothing short of magical\, with streets adorned in colorful decorations\, traditional music filling the air\, and a sense of joy and togetherness that is truly infectious.
URL:https://emptylegs.net/event/diwali/
CATEGORIES:Festivals
END:VEVENT
BEGIN:VEVENT
DTSTART;TZID=America/New_York:20260422T185455
DTEND;TZID=America/New_York:20260422T185455
DTSTAMP:20260422T185456
CREATED:20231010T144706Z
LAST-MODIFIED:20231010T144952Z
UID:5442-1776884095-1776884095@emptylegs.net
SUMMARY:Thanksgiving United States 2023
DESCRIPTION:Thanksgiving Day\, Nov 24th\, is an annual national holiday in the United States and Canada celebrating the harvest and other blessings of the past year. In the US Thanksgiving is celebrated on the fourth Thursday of November while in Canada nearly one month and a half earlier (second Monday of October). Thanksgiving has deep roots in religious tradition\, but nowadays it is primarily celebrated as a secular holiday.  \nThanksgiving tradition began in early XVII century\, but the date and popularity varied between states. First nation-wide Thanksgiving was proclaimed on November 26\, 1789 by George Washington. The contemporary date of fourth Thursday of November was set in 1941 by federal legislation.
URL:https://emptylegs.net/event/thanksgiving-united-states-2023/
CATEGORIES:Holidays
END:VEVENT
BEGIN:VEVENT
DTSTART;TZID=America/New_York:20260422T185455
DTEND;TZID=America/New_York:20260422T185455
DTSTAMP:20260422T185456
CREATED:20231010T140020Z
LAST-MODIFIED:20231010T144238Z
UID:5425-1776884095-1776884095@emptylegs.net
SUMMARY:Loi Krathong
DESCRIPTION:Loi Krathong\, Nov 27th\, is one of the most picturesque and most romantic festivals of Thailand\, falling on the night of full moon of the 12th lunar month. The moon appears exceptionally bright\, beautiful and full. Young couples draped in traditional finery gather around lakes\, rivers and canals to pay respects to the goddess of water by launching of the Krathong into the water. \nKrathong is a lotus shaped container made of banana leaves\, containing a candle\, incense sticks\, flower and coins. People also make their way to these water bodies where they can float Krathongs and make their wishes. It is said that people congregate for floating away their sins and miseries and hope for a better future for their families. At the same people light lanterns which rise into the night sky (Yi Peng) which makes for one of the most amazing sights you will ever see.
URL:https://emptylegs.net/event/loi-krathong/
CATEGORIES:Festivals
END:VEVENT
END:VCALENDAR