BEGIN:VCALENDAR
VERSION:2.0
PRODID:-//EmptyLegs.net - ECPv6.13.2.1//NONSGML v1.0//EN
CALSCALE:GREGORIAN
METHOD:PUBLISH
X-WR-CALNAME:EmptyLegs.net
X-ORIGINAL-URL:https://emptylegs.net
X-WR-CALDESC:Events for EmptyLegs.net
REFRESH-INTERVAL;VALUE=DURATION:PT1H
X-Robots-Tag:noindex
X-PUBLISHED-TTL:PT1H
BEGIN:VTIMEZONE
TZID:America/New_York
BEGIN:DAYLIGHT
TZOFFSETFROM:-0500
TZOFFSETTO:-0400
TZNAME:EDT
DTSTART:20260308T070000
END:DAYLIGHT
BEGIN:STANDARD
TZOFFSETFROM:-0400
TZOFFSETTO:-0500
TZNAME:EST
DTSTART:20261101T060000
END:STANDARD
END:VTIMEZONE
BEGIN:VEVENT
DTSTART;TZID=America/New_York:20260425T093328
DTEND;TZID=America/New_York:20260425T093328
DTSTAMP:20260425T093328
CREATED:20230628T001622Z
LAST-MODIFIED:20230628T062405Z
UID:5118-1777109608-1777109608@emptylegs.net
SUMMARY:The US Open
DESCRIPTION:The US Open tennis tournament\, commonly known as the U.S. Open\, represents the fourth and culminating event among the prestigious Grand Slam tournaments. Held annually between August and September\, this tournament showcases the finest talents in the world of tennis. \nThe captivating matches take place at Flushing Meadows\, where players strive for victory on the Decoturf II surface\, composed of acrylic cement. While the tournament’s present surface is Decoturf II\, it’s worth noting that the U.S. Open has seen its fair share of transitions\, having been contested on both grass and clay courts in the past (for more information on tennis court surfaces). \nThe U.S. Open serves as a thrilling conclusion to the Grand Slam season\, capturing the attention of tennis enthusiasts worldwide and crowning champions who etch their names in the annals of tennis history. \nCheck Flight Availability \nFollow us on Facebook
URL:https://emptylegs.net/event/the-us-open/
CATEGORIES:tennis
END:VEVENT
BEGIN:VEVENT
DTSTART;TZID=America/New_York:20260425T093328
DTEND;TZID=America/New_York:20260425T093328
DTSTAMP:20260425T093328
CREATED:20230627T195418Z
LAST-MODIFIED:20230627T232801Z
UID:5055-1777109608-1777109608@emptylegs.net
SUMMARY:Electric Zoo Festival
DESCRIPTION:Introduced in 2009 by Made Event\, Electric Zoo Festival has become a globally acclaimed music extravaganza and one of the most colossal gatherings in New York City. Showcasing the crème de la crème of electronic music\, this festival welcomes a diverse array of artists from around the globe\, representing an extensive range of sub-genres within the electronic music realm. In addition to its flagship event in NYC\, Electric Zoo has also expanded its horizons with international editions held in Mexico City\, Tokyo\, Shanghai\, and São Paulo. \nCheck Flight Availability \nFollow us on Facebook
URL:https://emptylegs.net/event/electric-zoo-festival/
CATEGORIES:Festivals,Music
END:VEVENT
BEGIN:VEVENT
DTSTART;TZID=America/New_York:20260425T093328
DTEND;TZID=America/New_York:20260425T093328
DTSTAMP:20260425T093328
CREATED:20230628T053748Z
LAST-MODIFIED:20230628T053822Z
UID:5158-1777109608-1777109608@emptylegs.net
SUMMARY:Italian Grand Prix
DESCRIPTION:Let’s see who is the fastest! The Italian Grand Prix is a spectacle. At the Autodromo Nazionale Monza\, Formula 1 drivers encounter many straights\, where they can let their engine run at full speed. In between they have to break in time for the short chicanes on the Monza circuit. In Ferrari’s country\, more is at stake than just victory\, it’s about honor. \nCheck Flight Availability \nFollow us on Instagram
URL:https://emptylegs.net/event/italian-grand-prix/
CATEGORIES:car racing
END:VEVENT
BEGIN:VEVENT
DTSTART;TZID=America/New_York:20260425T093328
DTEND;TZID=America/New_York:20260425T093328
DTSTAMP:20260425T093328
CREATED:20230627T234225Z
LAST-MODIFIED:20230627T234817Z
UID:5101-1777109608-1777109608@emptylegs.net
SUMMARY:Regata Storica
DESCRIPTION:The Regata Storica in Venice is renowned worldwide as a vibrant tourist destination event\, celebrated for its picturesque sister islands adorned with a kaleidoscope of colors. The city’s tranquil azure waterways are known for their leisurely (albeit pricey) gondola rides\, which gracefully navigate the ebb and flow of the canals. However\, on the first Sunday of September\, Venice awakens to a distinctive flurry of activity. Rowers from far and wide encircle the city\, while avid fans of the sport gather to witness the annual races. \nThe atmosphere is electric as spectators line the canals\, immersing themselves in the exhilarating spectacle of rowing prowess. The excitement crescendos with a vibrant introductory parade\, where participants showcase their spirit along the picturesque waterways\, adding an extra layer of vivacity to the city’s enchanting ambiance. \nCheck Flight Availability \nFollow us on Instagram \n 
URL:https://emptylegs.net/event/regata-storica/
CATEGORIES:Boat Shows,Festivals
END:VEVENT
BEGIN:VEVENT
DTSTART;TZID=America/New_York:20260425T093328
DTEND;TZID=America/New_York:20260425T093328
DTSTAMP:20260425T093328
CREATED:20230628T043222Z
LAST-MODIFIED:20230628T043250Z
UID:5124-1777109608-1777109608@emptylegs.net
SUMMARY:World Cup
DESCRIPTION:Serving as the pinnacle of Rugby\, the Rugby World Cup stands as the premier international rugby union competition\, held once every four years. The upcoming men’s Rugby World Cup\, the 10th edition\, is set to take place in France in 2023. Likewise\, the forthcoming women’s Rugby World Cup is scheduled to be held in New Zealand in 2022. \nSince its inaugural tournament in 1987\, the Rugby World Cup has captivated fans worldwide. Organized by the International Rugby Board (IRB)\, the governing body of the sport\, this prestigious event sees national teams from around the globe engage in qualifying matches to secure a coveted spot among the final 20 teams in the finals. \nAs the Rugby World Cup showcases the finest rugby talent\, the competition fosters fierce rivalries and showcases the pinnacle of skill and athleticism on the global stage. Rugby enthusiasts eagerly anticipate the tournament\, as it showcases the best of the sport and crowns the world champions every four years. \nCheck Flight Availability \nFollow us on Instagram
URL:https://emptylegs.net/event/world-cup/
CATEGORIES:Rugby,sporting events
END:VEVENT
BEGIN:VEVENT
DTSTART;TZID=America/New_York:20260425T093328
DTEND;TZID=America/New_York:20260425T093328
DTSTAMP:20260425T093328
CREATED:20230628T045648Z
LAST-MODIFIED:20230628T045724Z
UID:5138-1777109608-1777109608@emptylegs.net
SUMMARY:National Championship Air Races
DESCRIPTION:Every day commences and concludes with the timeless cycle of a sunrise and a sunset. This eternal rhythm mirrors the National Championship Air Races\, which commenced their inaugural sunrise in Reno back in 1964. However\, the sun will finally set on this cherished event later this year\, after 59 years of unwavering constancy. \nThroughout these decades\, the Air Races have cast a luminous glow upon the lives of all who have been involved: from the steadfast venue to the awe-inspiring aircraft\, the dedicated volunteers\, and the enthusiastic fans. This radiant light\, so brilliantly illuminating\, cannot be extinguished. Rather\, it will guide us towards the path that lies ahead as the Races seek a new home. \nA fresh sunrise awaits us in a new destination\, and in the coming months\, updates on this exciting progress will be shared. There are countless reasons to embrace this new journey\, as we persistently race towards the future. \nNevertheless\, the sun has not yet set on Reno. There remains one final chapter to be written before embarking on the next. Join us as we embark on this last exhilarating venture around the course\, indulging in one more week of thrilling moments. \nCheck Flight Availability \nFollow us on Instagram
URL:https://emptylegs.net/event/national-championship-air-races/
CATEGORIES:Air Races,Aviation
END:VEVENT
BEGIN:VEVENT
DTSTART;TZID=America/New_York:20260425T093328
DTEND;TZID=America/New_York:20260425T093328
DTSTAMP:20260425T093328
CREATED:20230627T200837Z
LAST-MODIFIED:20230628T061615Z
UID:5061-1777109608-1777109608@emptylegs.net
SUMMARY:iHeartRadio Music Festival
DESCRIPTION:Starting in 2011\, the iHeartRadio Music Festival has become an annual spectacle held in Las Vegas during the month of September. Renowned for its exceptional lineup of musical talent\, this event has swiftly established itself as a prominent fixture in the festival circuit. Initially hosted at the MGM Grand Garden Arena in Las Vegas\, the festival underwent a significant change last year when the primary stage was relocated to the vibrant T-Mobile Arena. However\, the allure of remarkable music extends beyond the main venue\, as the festival also offers the iHeartRadio Daytime Village—an auxiliary location dedicated to showcasing promising emerging artists. \nCheck Flight Availability \nFollow us on Instagram
URL:https://emptylegs.net/event/iheartradio-music-festival/
CATEGORIES:Festivals,Music
END:VEVENT
BEGIN:VEVENT
DTSTART;TZID=America/New_York:20260425T093328
DTEND;TZID=America/New_York:20260425T093328
DTSTAMP:20260425T093328
CREATED:20230628T044328Z
LAST-MODIFIED:20230628T044406Z
UID:5131-1777109608-1777109608@emptylegs.net
SUMMARY:Ryder Cup
DESCRIPTION:The Ryder Cup\, an esteemed men’s golf competition\, showcases riveting matchups between teams representing Europe and the United States. This highly anticipated event takes place biennially\, alternating between courses in the United States and Europe. The organization and administration of the Ryder Cup are jointly carried out by the Professional Golfers’ Association of America and Ryder Cup Europe. \nThroughout its history\, the format of the Cup has undergone several modifications. Initially\, from its inception until 1959\, the competition spanned two days\, featuring 36-hole matches. Subsequently\, the format evolved to 18-hole matches\, with a doubling of the matches in 1961. Two years later\, the event expanded to three days\, introducing four-ball matches for the first time. This format persisted until 1977\, when it was revised to 20 matches\, coinciding with the participation of continental European players. The current format\, which has been in use since 1979 and remains in place today\, comprises a total of 28 matches. The first two days feature eight foursomes or four-ball matches\, while the final day culminates in 12 singles matches. \nThe Ryder Cup’s rich history and exciting format have contributed to its status as a cherished event in the world of golf\, captivating fans and showcasing the fierce competition and camaraderie between two continents. \nCheck Flight Availability \nFollow us on Facebook
URL:https://emptylegs.net/event/ryder-cup/
CATEGORIES:golf
END:VEVENT
END:VCALENDAR