BEGIN:VCALENDAR
VERSION:2.0
PRODID:-//EmptyLegs.net - ECPv6.13.2.1//NONSGML v1.0//EN
CALSCALE:GREGORIAN
METHOD:PUBLISH
X-WR-CALNAME:EmptyLegs.net
X-ORIGINAL-URL:https://emptylegs.net
X-WR-CALDESC:Events for EmptyLegs.net
REFRESH-INTERVAL;VALUE=DURATION:PT1H
X-Robots-Tag:noindex
X-PUBLISHED-TTL:PT1H
BEGIN:VTIMEZONE
TZID:America/New_York
BEGIN:DAYLIGHT
TZOFFSETFROM:-0500
TZOFFSETTO:-0400
TZNAME:EDT
DTSTART:20260308T070000
END:DAYLIGHT
BEGIN:STANDARD
TZOFFSETFROM:-0400
TZOFFSETTO:-0500
TZNAME:EST
DTSTART:20261101T060000
END:STANDARD
END:VTIMEZONE
BEGIN:VEVENT
DTSTART;TZID=America/New_York:20260421T154253
DTEND;TZID=America/New_York:20260421T154253
DTSTAMP:20260421T154253
CREATED:20230321T040711Z
LAST-MODIFIED:20240416T175721Z
UID:4632-1776786173-1776786173@emptylegs.net
SUMMARY:Air Race Classic
DESCRIPTION:The Air Race Classic\, June 18th-21st\, is an annual all-women cross-country airplane race that has been held since 1929. The race typically covers about 2\,400 miles over four days\, and features teams of two or three women pilots flying single-engine planes. The race was initially called the Women’s Air Derby and was created by Amelia Earhart and other female pilots to promote women’s aviation and demonstrate the skill and capability of women pilots. The first race began on August 18\, 1929\, and was won by Louise Thaden and Blanche Noyes. \nThe Air Race Classic has since become a prestigious aviation competition that draws participants from all over the world. The race typically starts and ends at different airports each year\, and the route varies from year to year\, with stops at various airports along the way. In addition to promoting women’s aviation and providing a platform for women pilots to showcase their skills\, the Air Race Classic also serves as a fundraising event for aviation scholarships and programs. The race is organized by the Air Race Classic\, Inc.\, a non-profit organization that is dedicated to promoting aviation and supporting women in aviation. \nCheck Flight Availability
URL:https://emptylegs.net/event/air-race-classic/
CATEGORIES:Aviation,sporting events
END:VEVENT
BEGIN:VEVENT
DTSTART;TZID=America/New_York:20260421T154253
DTEND;TZID=America/New_York:20260421T154253
DTSTAMP:20260421T154253
CREATED:20230321T044017Z
LAST-MODIFIED:20240416T173216Z
UID:4644-1776786173-1776786173@emptylegs.net
SUMMARY:Spanish Grand Prix
DESCRIPTION:The Spanish Grand Prix\, June 21st-23rd\, is an annual Formula One motor race that takes place in Spain. The race has been held at the Circuit de Barcelona-Catalunya since 1991. The race is part of the Formula One World Championship and is one of the oldest races on the calendar\, first held in 1913. The Circuit de Barcelona-Catalunya is known for its fast\, challenging layout and is a popular venue for testing during the pre-season. \nThe Spanish Grand Prix is a significant event for Spanish motorsport\, and has produced some memorable moments over the years. Some of the most successful drivers at the Spanish Grand Prix include Michael Schumacher\, Ayrton Senna\, and Lewis Hamilton. \nIn addition to the race itself\, the Spanish Grand Prix also features a range of supporting events\, including practice and qualifying sessions\, as well as various entertainment and cultural events. \nOverall\, the Spanish Grand Prix is an important event in the world of motorsport\, attracting a global audience of racing fans and showcasing the latest technology and innovation in Formula One racing. \nCheck Flight Availability
URL:https://emptylegs.net/event/spanish-grand-prix/
CATEGORIES:car racing,sporting events
END:VEVENT
END:VCALENDAR