BEGIN:VCALENDAR
VERSION:2.0
PRODID:-//EmptyLegs.net - ECPv6.13.2.1//NONSGML v1.0//EN
CALSCALE:GREGORIAN
METHOD:PUBLISH
X-WR-CALNAME:EmptyLegs.net
X-ORIGINAL-URL:https://emptylegs.net
X-WR-CALDESC:Events for EmptyLegs.net
REFRESH-INTERVAL;VALUE=DURATION:PT1H
X-Robots-Tag:noindex
X-PUBLISHED-TTL:PT1H
BEGIN:VTIMEZONE
TZID:America/New_York
BEGIN:DAYLIGHT
TZOFFSETFROM:-0500
TZOFFSETTO:-0400
TZNAME:EDT
DTSTART:20260308T070000
END:DAYLIGHT
BEGIN:STANDARD
TZOFFSETFROM:-0400
TZOFFSETTO:-0500
TZNAME:EST
DTSTART:20261101T060000
END:STANDARD
END:VTIMEZONE
BEGIN:VEVENT
DTSTART;TZID=America/New_York:20260421T080130
DTEND;TZID=America/New_York:20260421T080130
DTSTAMP:20260421T080130
CREATED:20230321T042331Z
LAST-MODIFIED:20240416T181046Z
UID:4635-1776758490-1776758490@emptylegs.net
SUMMARY:Tribeca Film Festival
DESCRIPTION:The Tribeca Film Festival\, June 5th-16th\, is an annual film festival held in New York City\, established in 2002 by Robert De Niro\, Jane Rosenthal\, and Craig Hatkoff. The festival was created in response to the September 11 attacks\, which had a profound impact on the city and its cultural landscape. The festival showcases a wide range of films\, including feature films\, documentaries\, and short films\, from around the world. It also includes a number of special events\, such as panel discussions\, Q&A sessions with filmmakers and actors\, and concerts. One of the unique aspects of the Tribeca Film Festival is its commitment to showcasing films that are not typically seen in mainstream theaters. The festival often features independent films\, documentaries\, and foreign films\, as well as films that tackle important social issues.  \nThe festival has grown in popularity over the years\, attracting both established and up-and-coming filmmakers\, as well as a large audience of film enthusiasts. In addition to showcasing films\, the festival also serves as a platform for filmmakers to network\, promote their work\, and connect with audiences.  \n  \nCheck Flight Availability
URL:https://emptylegs.net/event/tribeca-film-festival/
CATEGORIES:Festivals,Film
END:VEVENT
BEGIN:VEVENT
DTSTART;TZID=America/New_York:20260421T080130
DTEND;TZID=America/New_York:20260421T080130
DTSTAMP:20260421T080130
CREATED:20230321T044653Z
LAST-MODIFIED:20240416T174022Z
UID:4648-1776758490-1776758490@emptylegs.net
SUMMARY:Art Basel
DESCRIPTION:Art Basel\, June 13th -16th\, is an annual international art fair held in Basel\, Switzerland. The fair is considered one of the most prestigious and influential art events in the world\, attracting galleries\, collectors\, curators\, and artists from around the globe. Art Basel in Basel was first held in 1970 and has since grown to become one of the largest and most important art fairs in the world. \nThe fair features a wide range of contemporary and modern art\, including paintings\, sculptures\, installations\, photography\, and video art. It is held in the Messe Basel\, a modern exhibition complex located in the heart of Basel\, and usually runs for several days in June. In addition to the main fair\, Art Basel in Basel also features a range of supporting events\, including talks\, panel discussions\, and special exhibitions.  \nOne of the unique aspects of Art Basel in Basel is its focus on quality and innovation in contemporary art. The fair attracts some of the most influential artists and galleries in the world and is known for showcasing cutting-edge and experimental art. \nCheck Flight Availability \n 
URL:https://emptylegs.net/event/art-basel/
CATEGORIES:Art,Festivals
END:VEVENT
BEGIN:VEVENT
DTSTART;TZID=America/New_York:20260421T080130
DTEND;TZID=America/New_York:20260421T080130
DTSTAMP:20260421T080130
CREATED:20230321T050306Z
LAST-MODIFIED:20240416T181436Z
UID:4653-1776758490-1776758490@emptylegs.net
SUMMARY:US Open Golf
DESCRIPTION:The US Open Golf\, June 13th-16th\, is one of the four major championships in men’s golf and is considered one of the most prestigious golf tournaments in the world. The tournament is organized by the United States Golf Association (USGA) and is typically held in mid-June\, although the date may vary from year to year. The US Open Golf tournament features a field of the world’s best professional and amateur golfers\, who compete over four rounds of stroke play at a different course in the United States each year. The tournament is known for its challenging course setups\, which feature narrow fairways\, deep rough\, and fast greens\, making it a true test of skill and endurance for the players. \nThe US Open Golf tournament has a long and storied history\, dating back to 1895 when it was first held at the Newport Country Club in Rhode Island. Some of the greatest players in the sport have won the US Open\, including Jack Nicklaus\, Tiger Woods\, and Ben Hogan.One of the unique aspects of the US Open Golf tournament is the way it is conducted. \nThe USGA sets up the course to be as challenging as possible\, with the goal of identifying the best golfer over four days of intense competition. The tournament also features a range of qualifying events for amateur golfers\, providing them with the opportunity to compete alongside the best players in the world. Overall\, the US Open Golf tournament is an important event in the world of golf\, attracting a global audience of golf enthusiasts and showcasing the best talent in the sport. \nCheck Flight Availability
URL:https://emptylegs.net/event/us-open-golf/
CATEGORIES:golf,sporting events
END:VEVENT
END:VCALENDAR