BEGIN:VCALENDAR
VERSION:2.0
PRODID:-//EmptyLegs.net - ECPv6.13.2.1//NONSGML v1.0//EN
CALSCALE:GREGORIAN
METHOD:PUBLISH
X-ORIGINAL-URL:https://emptylegs.net
X-WR-CALDESC:Events for EmptyLegs.net
REFRESH-INTERVAL;VALUE=DURATION:PT1H
X-Robots-Tag:noindex
X-PUBLISHED-TTL:PT1H
BEGIN:VTIMEZONE
TZID:America/New_York
BEGIN:DAYLIGHT
TZOFFSETFROM:-0500
TZOFFSETTO:-0400
TZNAME:EDT
DTSTART:20260308T070000
END:DAYLIGHT
BEGIN:STANDARD
TZOFFSETFROM:-0400
TZOFFSETTO:-0500
TZNAME:EST
DTSTART:20261101T060000
END:STANDARD
END:VTIMEZONE
BEGIN:VEVENT
DTSTART;TZID=America/New_York:20260421T070045
DTEND;TZID=America/New_York:20260421T070045
DTSTAMP:20260421T070045
CREATED:20230321T042331Z
LAST-MODIFIED:20240416T181046Z
UID:4635-1776754845-1776754845@emptylegs.net
SUMMARY:Tribeca Film Festival
DESCRIPTION:The Tribeca Film Festival\, June 5th-16th\, is an annual film festival held in New York City\, established in 2002 by Robert De Niro\, Jane Rosenthal\, and Craig Hatkoff. The festival was created in response to the September 11 attacks\, which had a profound impact on the city and its cultural landscape. The festival showcases a wide range of films\, including feature films\, documentaries\, and short films\, from around the world. It also includes a number of special events\, such as panel discussions\, Q&A sessions with filmmakers and actors\, and concerts. One of the unique aspects of the Tribeca Film Festival is its commitment to showcasing films that are not typically seen in mainstream theaters. The festival often features independent films\, documentaries\, and foreign films\, as well as films that tackle important social issues.  \nThe festival has grown in popularity over the years\, attracting both established and up-and-coming filmmakers\, as well as a large audience of film enthusiasts. In addition to showcasing films\, the festival also serves as a platform for filmmakers to network\, promote their work\, and connect with audiences.  \n  \nCheck Flight Availability
URL:https://emptylegs.net/event/tribeca-film-festival/
CATEGORIES:Festivals,Film
END:VEVENT
END:VCALENDAR