BEGIN:VCALENDAR
VERSION:2.0
PRODID:-//EmptyLegs.net - ECPv6.13.2.1//NONSGML v1.0//EN
CALSCALE:GREGORIAN
METHOD:PUBLISH
X-WR-CALNAME:EmptyLegs.net
X-ORIGINAL-URL:https://emptylegs.net
X-WR-CALDESC:Events for EmptyLegs.net
REFRESH-INTERVAL;VALUE=DURATION:PT1H
X-Robots-Tag:noindex
X-PUBLISHED-TTL:PT1H
BEGIN:VTIMEZONE
TZID:America/New_York
BEGIN:DAYLIGHT
TZOFFSETFROM:-0500
TZOFFSETTO:-0400
TZNAME:EDT
DTSTART:20260308T070000
END:DAYLIGHT
BEGIN:STANDARD
TZOFFSETFROM:-0400
TZOFFSETTO:-0500
TZNAME:EST
DTSTART:20261101T060000
END:STANDARD
END:VTIMEZONE
BEGIN:VEVENT
DTSTART;TZID=America/New_York:20260421T084407
DTEND;TZID=America/New_York:20260421T084407
DTSTAMP:20260421T084407
CREATED:20230320T222731Z
LAST-MODIFIED:20240416T170011Z
UID:4609-1776761047-1776761047@emptylegs.net
SUMMARY:Electric Daisy Carnival
DESCRIPTION:The Electric Daisy Carnival (EDC)\, May 17th-19th\, is an annual electronic dance music (EDM) festival that takes place in various locations around the world\, including Las Vegas\, Orlando\, Mexico City\, and more. It is one of the largest and most popular EDM festivals in the world\, attracting hundreds of thousands of music fans each year. The festival was first held in 1997 in Los Angeles\, California\, and has since grown into a global phenomenon. EDC is known for its immersive and colorful atmosphere\, featuring elaborate stage designs\, neon lighting\, and interactive art installations. The festival also features a diverse lineup of some of the biggest names in EDM\, as well as up-and-coming artists from around the world. \nIn addition to its musical offerings\, EDC also features a variety of carnival rides and attractions\, including Ferris wheels\, bumper cars\, and more. The festival is also known for its focus on community and inclusivity\, with a strong emphasis on promoting a positive and welcoming environment for all attendees.EDC is typically held over three days and nights\, with each day featuring a full lineup of musical performances and other attractions. The festival has hosted some of the biggest names in EDM\, including Tiësto\, Calvin Harris\, David Guetta\, and Martin Garrix\, among others. \nEDC is more than just a music festival\, it is a cultural event that celebrates the joy and energy of EDM music and the community that surrounds it. It is a testament to the power of music to bring people together and create unforgettable experiences. \nCheck Flight Availability
URL:https://emptylegs.net/event/electric-daisy-carnival/
CATEGORIES:Festivals,Music
END:VEVENT
BEGIN:VEVENT
DTSTART;TZID=America/New_York:20260421T084407
DTEND;TZID=America/New_York:20260421T084407
DTSTAMP:20260421T084407
CREATED:20230320T230818Z
LAST-MODIFIED:20240416T170236Z
UID:4622-1776761047-1776761047@emptylegs.net
SUMMARY:Preakness Stakes
DESCRIPTION:The Preakness Stakes\, May 18th\, is an annual horse racing event held at Pimlico Race Course in Baltimore\, Maryland\, and is the second leg of the Triple Crown\, which also includes the Kentucky Derby and the Belmont Stakes. The race is typically held on the third Saturday in May\, two weeks after the Kentucky Derby. The race is contested on a dirt track over a distance of 1 3/16 miles\, making it slightly shorter than the Kentucky Derby and slightly longer than the Belmont Stakes. \nThe race is open to three-year-old thoroughbreds\, and they must meet certain qualification standards to be eligible to compete. The Preakness Stakes has a long history\, dating back to 1873\, and is named after a horse named Preakness\, who won the Dinner Party Stakes\, the race that eventually became the Preakness Stakes. The race has been held at Pimlico Race Course since 1909. \nSome of the most famous and successful horses in history have won the Preakness Stakes\, including Secretariat\, American Pharoah\, and Justify\, who went on to win the Triple Crown in 2018. The race is also known for its festive atmosphere\, with attendees enjoying the race-day traditions\, including the “Black-Eyed Susan” cocktail and the playing of “Maryland\, My Maryland\,” the state song of Maryland.  \nThe Preakness Stakes is also an important betting event\, with millions of dollars wagered on the race each year. The race is seen as a key indicator of which horse might go on to win the Triple Crown\, and it is closely watched by horse racing enthusiasts and casual fans alike. \nContact Us
URL:https://emptylegs.net/event/preakness-stakes/
CATEGORIES:horse racing,sporting events
END:VEVENT
END:VCALENDAR