BEGIN:VCALENDAR
VERSION:2.0
PRODID:-//EmptyLegs.net - ECPv6.13.2.1//NONSGML v1.0//EN
CALSCALE:GREGORIAN
METHOD:PUBLISH
X-ORIGINAL-URL:https://emptylegs.net
X-WR-CALDESC:Events for EmptyLegs.net
REFRESH-INTERVAL;VALUE=DURATION:PT1H
X-Robots-Tag:noindex
X-PUBLISHED-TTL:PT1H
BEGIN:VTIMEZONE
TZID:America/New_York
BEGIN:DAYLIGHT
TZOFFSETFROM:-0500
TZOFFSETTO:-0400
TZNAME:EDT
DTSTART:20260308T070000
END:DAYLIGHT
BEGIN:STANDARD
TZOFFSETFROM:-0400
TZOFFSETTO:-0500
TZNAME:EST
DTSTART:20261101T060000
END:STANDARD
END:VTIMEZONE
BEGIN:VEVENT
DTSTART;TZID=America/New_York:20260421T191050
DTEND;TZID=America/New_York:20260421T191050
DTSTAMP:20260421T191050
CREATED:20230320T222731Z
LAST-MODIFIED:20240416T170011Z
UID:4609-1776798650-1776798650@emptylegs.net
SUMMARY:Electric Daisy Carnival
DESCRIPTION:The Electric Daisy Carnival (EDC)\, May 17th-19th\, is an annual electronic dance music (EDM) festival that takes place in various locations around the world\, including Las Vegas\, Orlando\, Mexico City\, and more. It is one of the largest and most popular EDM festivals in the world\, attracting hundreds of thousands of music fans each year. The festival was first held in 1997 in Los Angeles\, California\, and has since grown into a global phenomenon. EDC is known for its immersive and colorful atmosphere\, featuring elaborate stage designs\, neon lighting\, and interactive art installations. The festival also features a diverse lineup of some of the biggest names in EDM\, as well as up-and-coming artists from around the world. \nIn addition to its musical offerings\, EDC also features a variety of carnival rides and attractions\, including Ferris wheels\, bumper cars\, and more. The festival is also known for its focus on community and inclusivity\, with a strong emphasis on promoting a positive and welcoming environment for all attendees.EDC is typically held over three days and nights\, with each day featuring a full lineup of musical performances and other attractions. The festival has hosted some of the biggest names in EDM\, including Tiësto\, Calvin Harris\, David Guetta\, and Martin Garrix\, among others. \nEDC is more than just a music festival\, it is a cultural event that celebrates the joy and energy of EDM music and the community that surrounds it. It is a testament to the power of music to bring people together and create unforgettable experiences. \nCheck Flight Availability
URL:https://emptylegs.net/event/electric-daisy-carnival/
CATEGORIES:Festivals,Music
END:VEVENT
END:VCALENDAR