BEGIN:VCALENDAR
VERSION:2.0
PRODID:-//EmptyLegs.net - ECPv6.13.2.1//NONSGML v1.0//EN
CALSCALE:GREGORIAN
METHOD:PUBLISH
X-WR-CALNAME:EmptyLegs.net
X-ORIGINAL-URL:https://emptylegs.net
X-WR-CALDESC:Events for EmptyLegs.net
REFRESH-INTERVAL;VALUE=DURATION:PT1H
X-Robots-Tag:noindex
X-PUBLISHED-TTL:PT1H
BEGIN:VTIMEZONE
TZID:America/New_York
BEGIN:DAYLIGHT
TZOFFSETFROM:-0500
TZOFFSETTO:-0400
TZNAME:EDT
DTSTART:20260308T070000
END:DAYLIGHT
BEGIN:STANDARD
TZOFFSETFROM:-0400
TZOFFSETTO:-0500
TZNAME:EST
DTSTART:20261101T060000
END:STANDARD
END:VTIMEZONE
BEGIN:VEVENT
DTSTART;TZID=America/New_York:20260421T110223
DTEND;TZID=America/New_York:20260421T110223
DTSTAMP:20260421T110223
CREATED:20230207T164734Z
LAST-MODIFIED:20240108T223433Z
UID:4395-1776769343-1776769343@emptylegs.net
SUMMARY:March Madness Basketball
DESCRIPTION:March Madness 2024 promises to be another exhilarating and highly anticipated edition of the annual NCAA Men’s Basketball Tournament. This thrilling sporting event\, which typically spans from mid-March to early April\, captivates basketball fans across the United States. Sixty-eight college basketball teams compete in a single-elimination format to determine the national champion\, making every game a high-stakes showdown. \nThe tournament is known for its unpredictable outcomes\, Cinderella stories\, and intense competition\, making it a true spectacle in the world of sports. As fans fill out their brackets and cheer for their favorite teams\, March Madness 2024 is poised to deliver unforgettable moments\, dramatic upsets\, and the crowning of a new college basketball champion\, adding another chapter to the tournament’s rich and storied history. \nCheck Flight Availability
URL:https://emptylegs.net/event/march-madness-basketball/
CATEGORIES:sporting events
END:VEVENT
BEGIN:VEVENT
DTSTART;TZID=America/New_York:20260421T110223
DTEND;TZID=America/New_York:20260421T110223
DTSTAMP:20260421T110223
CREATED:20230207T165752Z
LAST-MODIFIED:20240108T225700Z
UID:4399-1776769343-1776769343@emptylegs.net
SUMMARY:National Cherry Blossom Festival
DESCRIPTION:The National Cherry Blossom Festival in Washington\, D.C.\, is a cherished annual event that celebrates the arrival of spring and the beauty of cherry blossoms. Typically held in late March to early April\, this festival commemorates the generous gift of cherry blossom trees from Japan to the United States in 1912. The festival features a series of cultural events\, including a grand parade\, traditional Japanese performances\, and art exhibitions. \nThe blooming cherry blossoms around the Tidal Basin become a stunning backdrop\, attracting visitors from across the nation and the world to witness their ephemeral beauty. The National Cherry Blossom Festival is a symbol of friendship and international goodwill\, offering a captivating blend of nature\, culture\, and community\, making it a cherished tradition in the nation’s capital. \nCheck Flight Availability
URL:https://emptylegs.net/event/national-cherry-blossom-festival/
CATEGORIES:Festivals
END:VEVENT
BEGIN:VEVENT
DTSTART;TZID=America/New_York:20260421T110223
DTEND;TZID=America/New_York:20260421T110223
DTSTAMP:20260421T110223
CREATED:20230320T210148Z
LAST-MODIFIED:20240416T163724Z
UID:4592-1776769343-1776769343@emptylegs.net
SUMMARY:The Masters Golf Tournament
DESCRIPTION:The Masters Golf Tournament is one of the four major championships in professional men’s golf. It is held annually in April at the Augusta National Golf Club in Augusta\, Georgia\, United States. The tournament was first played in 1934\, and it has been held every year since then\, except for the period during World War II. The Masters is known for its tradition and exclusivity\, as it is an invitational tournament with a limited field of players who have either won a major golf championship or have earned a high ranking in the world of golf. The tournament is also famous for its iconic green jacket\, which is awarded to the winner of the tournament and has become a symbol of golfing greatness. \nThe Augusta National Golf Club\, where the Masters is played\, is considered one of the most beautiful and challenging courses in the world. The tournament is known for its picturesque scenery\, including the blooming azaleas and dogwoods that line the course\, as well as its difficult greens and challenging holes\, such as “Amen Corner.” \nThe Masters is widely regarded as one of the most prestigious golf tournaments in the world and attracts top players from around the globe. It is watched by millions of fans worldwide and is considered a highlight of the professional golf calendar. \nCheck Flight Availability
URL:https://emptylegs.net/event/the-masters-golf-tournament/
CATEGORIES:golf,sporting events
END:VEVENT
END:VCALENDAR