BEGIN:VCALENDAR
VERSION:2.0
PRODID:-//EmptyLegs.net - ECPv6.13.2.1//NONSGML v1.0//EN
CALSCALE:GREGORIAN
METHOD:PUBLISH
X-WR-CALNAME:EmptyLegs.net
X-ORIGINAL-URL:https://emptylegs.net
X-WR-CALDESC:Events for EmptyLegs.net
REFRESH-INTERVAL;VALUE=DURATION:PT1H
X-Robots-Tag:noindex
X-PUBLISHED-TTL:PT1H
BEGIN:VTIMEZONE
TZID:America/New_York
BEGIN:DAYLIGHT
TZOFFSETFROM:-0500
TZOFFSETTO:-0400
TZNAME:EDT
DTSTART:20260308T070000
END:DAYLIGHT
BEGIN:STANDARD
TZOFFSETFROM:-0400
TZOFFSETTO:-0500
TZNAME:EST
DTSTART:20261101T060000
END:STANDARD
END:VTIMEZONE
BEGIN:VEVENT
DTSTART;TZID=America/New_York:20260421T141111
DTEND;TZID=America/New_York:20260421T141111
DTSTAMP:20260421T141111
CREATED:20230207T170515Z
LAST-MODIFIED:20240108T223810Z
UID:4403-1776780671-1776780671@emptylegs.net
SUMMARY:The Miami Open
DESCRIPTION:The Miami Open tennis tournament is one of the premier events on the professional tennis calendar\, held annually in Miami\, Florida. Renowned for its thrilling matches\, star-studded player lineup\, and vibrant atmosphere\, the Miami Open attracts top tennis talent from around the world. Played on hard courts\, the tournament is a pivotal stop on both the ATP and WTA tours\, featuring intense competition as players vie for prestigious titles and valuable ranking points. \nBeyond the on-court action\, the Miami Open offers a unique experience with its beautiful venue at the Hard Rock Stadium\, a wide range of fan-friendly activities\, and a diverse\, multicultural crowd that reflects Miami’s cosmopolitan spirit. With its combination of world-class tennis and a festive ambiance\, the Miami Open stands as a must-visit event for tennis enthusiasts and sports fans alike\, adding a touch of excitement to the Magic City’s sporting calendar. \nCheck Flight Availability
URL:https://emptylegs.net/event/the-miami-open/
END:VEVENT
BEGIN:VEVENT
DTSTART;TZID=America/New_York:20260421T141111
DTEND;TZID=America/New_York:20260421T141111
DTSTAMP:20260421T141111
CREATED:20230207T164734Z
LAST-MODIFIED:20240108T223433Z
UID:4395-1776780671-1776780671@emptylegs.net
SUMMARY:March Madness Basketball
DESCRIPTION:March Madness 2024 promises to be another exhilarating and highly anticipated edition of the annual NCAA Men’s Basketball Tournament. This thrilling sporting event\, which typically spans from mid-March to early April\, captivates basketball fans across the United States. Sixty-eight college basketball teams compete in a single-elimination format to determine the national champion\, making every game a high-stakes showdown. \nThe tournament is known for its unpredictable outcomes\, Cinderella stories\, and intense competition\, making it a true spectacle in the world of sports. As fans fill out their brackets and cheer for their favorite teams\, March Madness 2024 is poised to deliver unforgettable moments\, dramatic upsets\, and the crowning of a new college basketball champion\, adding another chapter to the tournament’s rich and storied history. \nCheck Flight Availability
URL:https://emptylegs.net/event/march-madness-basketball/
CATEGORIES:sporting events
END:VEVENT
BEGIN:VEVENT
DTSTART;TZID=America/New_York:20260421T141111
DTEND;TZID=America/New_York:20260421T141111
DTSTAMP:20260421T141111
CREATED:20230207T165752Z
LAST-MODIFIED:20240108T225700Z
UID:4399-1776780671-1776780671@emptylegs.net
SUMMARY:National Cherry Blossom Festival
DESCRIPTION:The National Cherry Blossom Festival in Washington\, D.C.\, is a cherished annual event that celebrates the arrival of spring and the beauty of cherry blossoms. Typically held in late March to early April\, this festival commemorates the generous gift of cherry blossom trees from Japan to the United States in 1912. The festival features a series of cultural events\, including a grand parade\, traditional Japanese performances\, and art exhibitions. \nThe blooming cherry blossoms around the Tidal Basin become a stunning backdrop\, attracting visitors from across the nation and the world to witness their ephemeral beauty. The National Cherry Blossom Festival is a symbol of friendship and international goodwill\, offering a captivating blend of nature\, culture\, and community\, making it a cherished tradition in the nation’s capital. \nCheck Flight Availability
URL:https://emptylegs.net/event/national-cherry-blossom-festival/
CATEGORIES:Festivals
END:VEVENT
BEGIN:VEVENT
DTSTART;TZID=America/New_York:20260421T141111
DTEND;TZID=America/New_York:20260421T141111
DTSTAMP:20260421T141111
CREATED:20230321T124633Z
LAST-MODIFIED:20240108T225514Z
UID:4663-1776780671-1776780671@emptylegs.net
SUMMARY:Palm Beach International Boat Show
DESCRIPTION:The Palm Beach International Boat Show is a prestigious annual event that showcases the epitome of luxury yachts\, marine products\, and services. Held in Palm Beach\, Florida\, typically in late March\, this world-class boat show draws marine enthusiasts\, industry professionals\, and high-net-worth individuals from around the globe. The show boasts a dazzling array of vessels\, from opulent superyachts to sleek\, innovative watercraft\, all set against the picturesque backdrop of Palm Beach’s scenic waterfront. \nBeyond the impressive boats\, visitors can explore the latest in marine technology\, accessories\, and lifestyle products. With its opulent ambiance\, a bustling atmosphere\, and a reputation for attracting the elite of the boating world\, the Palm Beach International Boat Show is a not-to-be-missed event for anyone passionate about the maritime lifestyle. \nCheck Flight Availability
URL:https://emptylegs.net/event/palm-beach-international-boat-show/
CATEGORIES:Boat Shows,Yacht Shows
END:VEVENT
BEGIN:VEVENT
DTSTART;TZID=America/New_York:20260421T141111
DTEND;TZID=America/New_York:20260421T141111
DTSTAMP:20260421T141111
CREATED:20230207T171208Z
LAST-MODIFIED:20240108T230148Z
UID:4406-1776780671-1776780671@emptylegs.net
SUMMARY:Ultra Music Festival
DESCRIPTION:The Ultra Music Festival is a world-renowned electronic dance music (EDM) event that captivates music enthusiasts and festival-goers alike. Held annually in various locations around the globe\, including Miami\, Florida\, the Ultra Music Festival is a mecca for EDM fans. It features a stellar lineup of international DJs and artists who take the stage to deliver electrifying performances\, creating an unforgettable and high-energy experience. With its massive stages\, stunning visual effects\, and pulsating beats\, the festival has become synonymous with the EDM culture and has expanded its reach to include editions in different countries. \nThe Ultra Music Festival not only celebrates the power of music but also fosters a sense of unity and connection among its diverse and passionate attendees\, making it a landmark event in the world of electronic dance music. \nCheck Flight Availability
URL:https://emptylegs.net/event/ultra-music-festival/
END:VEVENT
END:VCALENDAR