BEGIN:VCALENDAR
VERSION:2.0
PRODID:-//EmptyLegs.net - ECPv6.13.2.1//NONSGML v1.0//EN
CALSCALE:GREGORIAN
METHOD:PUBLISH
X-WR-CALNAME:EmptyLegs.net
X-ORIGINAL-URL:https://emptylegs.net
X-WR-CALDESC:Events for EmptyLegs.net
REFRESH-INTERVAL;VALUE=DURATION:PT1H
X-Robots-Tag:noindex
X-PUBLISHED-TTL:PT1H
BEGIN:VTIMEZONE
TZID:America/New_York
BEGIN:DAYLIGHT
TZOFFSETFROM:-0500
TZOFFSETTO:-0400
TZNAME:EDT
DTSTART:20260308T070000
END:DAYLIGHT
BEGIN:STANDARD
TZOFFSETFROM:-0400
TZOFFSETTO:-0500
TZNAME:EST
DTSTART:20261101T060000
END:STANDARD
END:VTIMEZONE
BEGIN:VEVENT
DTSTART;TZID=America/New_York:20260421T093926
DTEND;TZID=America/New_York:20260421T093926
DTSTAMP:20260421T093926
CREATED:20230207T170515Z
LAST-MODIFIED:20240108T223810Z
UID:4403-1776764366-1776764366@emptylegs.net
SUMMARY:The Miami Open
DESCRIPTION:The Miami Open tennis tournament is one of the premier events on the professional tennis calendar\, held annually in Miami\, Florida. Renowned for its thrilling matches\, star-studded player lineup\, and vibrant atmosphere\, the Miami Open attracts top tennis talent from around the world. Played on hard courts\, the tournament is a pivotal stop on both the ATP and WTA tours\, featuring intense competition as players vie for prestigious titles and valuable ranking points. \nBeyond the on-court action\, the Miami Open offers a unique experience with its beautiful venue at the Hard Rock Stadium\, a wide range of fan-friendly activities\, and a diverse\, multicultural crowd that reflects Miami’s cosmopolitan spirit. With its combination of world-class tennis and a festive ambiance\, the Miami Open stands as a must-visit event for tennis enthusiasts and sports fans alike\, adding a touch of excitement to the Magic City’s sporting calendar. \nCheck Flight Availability
URL:https://emptylegs.net/event/the-miami-open/
END:VEVENT
END:VCALENDAR