BEGIN:VCALENDAR
VERSION:2.0
PRODID:-//EmptyLegs.net - ECPv6.13.2.1//NONSGML v1.0//EN
CALSCALE:GREGORIAN
METHOD:PUBLISH
X-WR-CALNAME:EmptyLegs.net
X-ORIGINAL-URL:https://emptylegs.net
X-WR-CALDESC:Events for EmptyLegs.net
REFRESH-INTERVAL;VALUE=DURATION:PT1H
X-Robots-Tag:noindex
X-PUBLISHED-TTL:PT1H
BEGIN:VTIMEZONE
TZID:America/New_York
BEGIN:DAYLIGHT
TZOFFSETFROM:-0500
TZOFFSETTO:-0400
TZNAME:EDT
DTSTART:20260308T070000
END:DAYLIGHT
BEGIN:STANDARD
TZOFFSETFROM:-0400
TZOFFSETTO:-0500
TZNAME:EST
DTSTART:20261101T060000
END:STANDARD
END:VTIMEZONE
BEGIN:VEVENT
DTSTART;TZID=America/New_York:20260421T220745
DTEND;TZID=America/New_York:20260421T220745
DTSTAMP:20260421T220745
CREATED:20230207T160054Z
LAST-MODIFIED:20240108T223257Z
UID:4383-1776809265-1776809265@emptylegs.net
SUMMARY:Rio Carnival in Brazil
DESCRIPTION:The Rio Carnival in Brazil is one of the world’s most exuberant and captivating cultural celebrations. Held annually in Rio de Janeiro\, typically in February or March\, this vibrant event is a dazzling spectacle of music\, dance\, and colorful costumes that captures the essence of Brazilian culture. Samba parades\, featuring elaborate floats and samba schools with thousands of dancers\, take center stage at the Sambadrome\, while street parties\, known as blocos\, erupt throughout the city\, creating an infectious party atmosphere. \nMillions of locals and tourists alike come together to revel in the festivities\, showcasing their love for music and dance as they move to the rhythm of samba and other Brazilian beats.  \nCheck Flight Availability
URL:https://emptylegs.net/event/rio-carnival-in-brazil/
CATEGORIES:Festivals
END:VEVENT
BEGIN:VEVENT
DTSTART;TZID=America/New_York:20260421T220745
DTEND;TZID=America/New_York:20260421T220745
DTSTAMP:20260421T220745
CREATED:20230207T162850Z
LAST-MODIFIED:20240108T200753Z
UID:4386-1776809265-1776809265@emptylegs.net
SUMMARY:Miami International Boat Show
DESCRIPTION:The Miami International Boat Show is an annual marine extravaganza that takes place in Miami\, Florida\, typically during February. This world-renowned event is a paradise for boating and water enthusiasts\, offering a vast and diverse showcase of boats\, yachts\, and marine products. With its picturesque waterfront location and warm weather\, the show creates a captivating atmosphere where visitors can explore the latest vessel innovations\, cutting-edge technology\, and accessories for all their boating needs. \n \nFrom luxury mega-yachts to small\, innovative watercraft\, the Miami International Boat Show is a hub of maritime excellence\, drawing boat aficionados\, industry professionals\, and curious onlookers alike. It not only celebrates the maritime lifestyle but also serves as a dynamic marketplace and networking opportunity for the global boating industry \nCheck Flight Availability
URL:https://emptylegs.net/event/miami-international-boat-show/
CATEGORIES:Boat Shows
END:VEVENT
END:VCALENDAR