BEGIN:VCALENDAR
VERSION:2.0
PRODID:-//EmptyLegs.net - ECPv6.13.2.1//NONSGML v1.0//EN
CALSCALE:GREGORIAN
METHOD:PUBLISH
X-ORIGINAL-URL:https://emptylegs.net
X-WR-CALDESC:Events for EmptyLegs.net
REFRESH-INTERVAL;VALUE=DURATION:PT1H
X-Robots-Tag:noindex
X-PUBLISHED-TTL:PT1H
BEGIN:VTIMEZONE
TZID:America/New_York
BEGIN:DAYLIGHT
TZOFFSETFROM:-0500
TZOFFSETTO:-0400
TZNAME:EDT
DTSTART:20260308T070000
END:DAYLIGHT
BEGIN:STANDARD
TZOFFSETFROM:-0400
TZOFFSETTO:-0500
TZNAME:EST
DTSTART:20261101T060000
END:STANDARD
END:VTIMEZONE
BEGIN:VEVENT
DTSTART;TZID=America/New_York:20260421T234440
DTEND;TZID=America/New_York:20260421T234440
DTSTAMP:20260421T234440
CREATED:20230207T160054Z
LAST-MODIFIED:20240108T223257Z
UID:4383-1776815080-1776815080@emptylegs.net
SUMMARY:Rio Carnival in Brazil
DESCRIPTION:The Rio Carnival in Brazil is one of the world’s most exuberant and captivating cultural celebrations. Held annually in Rio de Janeiro\, typically in February or March\, this vibrant event is a dazzling spectacle of music\, dance\, and colorful costumes that captures the essence of Brazilian culture. Samba parades\, featuring elaborate floats and samba schools with thousands of dancers\, take center stage at the Sambadrome\, while street parties\, known as blocos\, erupt throughout the city\, creating an infectious party atmosphere. \nMillions of locals and tourists alike come together to revel in the festivities\, showcasing their love for music and dance as they move to the rhythm of samba and other Brazilian beats.  \nCheck Flight Availability
URL:https://emptylegs.net/event/rio-carnival-in-brazil/
CATEGORIES:Festivals
END:VEVENT
BEGIN:VEVENT
DTSTART;TZID=America/New_York:20260421T234440
DTEND;TZID=America/New_York:20260421T234440
DTSTAMP:20260421T234440
CREATED:20230207T163659Z
LAST-MODIFIED:20240108T223422Z
UID:4391-1776815080-1776815080@emptylegs.net
SUMMARY:Mardi Gras Fat Tuesday
DESCRIPTION:Mardi Gras\, also known as Fat Tuesday\, is a vibrant and festive holiday celebrated around the world\, but most notably in New Orleans\, Louisiana. Falling on the day before Ash Wednesday\, which marks the beginning of the Christian season of Lent\, Mardi Gras is a day of indulgence and revelry. People don colorful costumes\, masks\, and beads\, taking to the streets to join grand parades and lively festivities. \nThe day is characterized by an abundance of rich\, indulgent foods and drinks\, as it’s the last opportunity to enjoy such treats before the solemn period of fasting and reflection during Lent. Mardi Gras represents a joyful and spirited celebration of life\, music\, and culture\, with its origins dating back centuries\, and it continues to be a beloved tradition that brings communities together in a spirit of joy and camaraderie. \nCheck Flight Availability
URL:https://emptylegs.net/event/mardi-gras-fat-tuesday/
CATEGORIES:Festivals,Holidays
END:VEVENT
END:VCALENDAR