BEGIN:VCALENDAR
VERSION:2.0
PRODID:-//EmptyLegs.net - ECPv6.13.2.1//NONSGML v1.0//EN
CALSCALE:GREGORIAN
METHOD:PUBLISH
X-ORIGINAL-URL:https://emptylegs.net
X-WR-CALDESC:Events for EmptyLegs.net
REFRESH-INTERVAL;VALUE=DURATION:PT1H
X-Robots-Tag:noindex
X-PUBLISHED-TTL:PT1H
BEGIN:VTIMEZONE
TZID:America/New_York
BEGIN:DAYLIGHT
TZOFFSETFROM:-0500
TZOFFSETTO:-0400
TZNAME:EDT
DTSTART:20260308T070000
END:DAYLIGHT
BEGIN:STANDARD
TZOFFSETFROM:-0400
TZOFFSETTO:-0500
TZNAME:EST
DTSTART:20261101T060000
END:STANDARD
END:VTIMEZONE
BEGIN:VEVENT
DTSTART;TZID=America/New_York:20260421T173002
DTEND;TZID=America/New_York:20260421T173002
DTSTAMP:20260421T173002
CREATED:20230207T155243Z
LAST-MODIFIED:20240108T182909Z
UID:4380-1776792602-1776792602@emptylegs.net
SUMMARY:Quebec Winter Carnival
DESCRIPTION:The Quebec Winter Carnival\, also known as Carnaval de Québec\, is a vibrant and iconic winter celebration held annually in Quebec City\, Canada. This enchanting event typically takes place in late January to early February\, transforming the historic Old Quebec into a magical winter wonderland. Visitors and locals alike gather to revel in the festivities\, which include ice sculptures\, parades\, snow slides\, snow sculptures\, and a host of outdoor activities such as ice skating\, dog sledding\, and snowshoeing. A beloved tradition for over a century\, the Quebec Winter Carnival captures the spirit of the season and showcases the unique culture and joie de vivre of the Quebecois people. \nCheck Flight Availability
URL:https://emptylegs.net/event/quebec-winter-carnival/
CATEGORIES:Festivals
END:VEVENT
BEGIN:VEVENT
DTSTART;TZID=America/New_York:20260421T173002
DTEND;TZID=America/New_York:20260421T173002
DTSTAMP:20260421T173002
CREATED:20230207T160054Z
LAST-MODIFIED:20240108T223257Z
UID:4383-1776792602-1776792602@emptylegs.net
SUMMARY:Rio Carnival in Brazil
DESCRIPTION:The Rio Carnival in Brazil is one of the world’s most exuberant and captivating cultural celebrations. Held annually in Rio de Janeiro\, typically in February or March\, this vibrant event is a dazzling spectacle of music\, dance\, and colorful costumes that captures the essence of Brazilian culture. Samba parades\, featuring elaborate floats and samba schools with thousands of dancers\, take center stage at the Sambadrome\, while street parties\, known as blocos\, erupt throughout the city\, creating an infectious party atmosphere. \nMillions of locals and tourists alike come together to revel in the festivities\, showcasing their love for music and dance as they move to the rhythm of samba and other Brazilian beats.  \nCheck Flight Availability
URL:https://emptylegs.net/event/rio-carnival-in-brazil/
CATEGORIES:Festivals
END:VEVENT
END:VCALENDAR