BEGIN:VCALENDAR
VERSION:2.0
PRODID:-//EmptyLegs.net - ECPv6.13.2.1//NONSGML v1.0//EN
CALSCALE:GREGORIAN
METHOD:PUBLISH
X-WR-CALNAME:EmptyLegs.net
X-ORIGINAL-URL:https://emptylegs.net
X-WR-CALDESC:Events for EmptyLegs.net
REFRESH-INTERVAL;VALUE=DURATION:PT1H
X-Robots-Tag:noindex
X-PUBLISHED-TTL:PT1H
BEGIN:VTIMEZONE
TZID:America/New_York
BEGIN:DAYLIGHT
TZOFFSETFROM:-0500
TZOFFSETTO:-0400
TZNAME:EDT
DTSTART:20260308T070000
END:DAYLIGHT
BEGIN:STANDARD
TZOFFSETFROM:-0400
TZOFFSETTO:-0500
TZNAME:EST
DTSTART:20261101T060000
END:STANDARD
END:VTIMEZONE
BEGIN:VEVENT
DTSTART;TZID=America/New_York:20260422T185626
DTEND;TZID=America/New_York:20260422T185626
DTSTAMP:20260422T185626
CREATED:20231010T142040Z
LAST-MODIFIED:20231010T142754Z
UID:5432-1776884186-1776884186@emptylegs.net
SUMMARY:Major League Baseball World Series
DESCRIPTION:The MLB World Series\, Oct 27th-Nov 4th\, is the ultimate showdown in American baseball\, a culmination of the season’s hard-fought battles and fierce competition. For over a century\, this annual championship series has captivated fans with its thrilling games\, iconic moments\, and the pursuit of baseball glory. With the best teams from the American League and the National League facing off in a best-of-seven series\, the World Series is a spectacle of skill\, strategy\, and heart-pounding action. \nIt’s not just a sporting event; it’s a piece of American history\, where legends are born\, and champions are crowned. Whether you’re a die-hard fan or just looking for a taste of the excitement\, the MLB World Series is a must-watch event that brings the nation together every October.
URL:https://emptylegs.net/event/major-league-baseball-world-series/
CATEGORIES:Baseball,World Series
END:VEVENT
END:VCALENDAR