BEGIN:VCALENDAR
VERSION:2.0
PRODID:-//EmptyLegs.net - ECPv6.13.2.1//NONSGML v1.0//EN
CALSCALE:GREGORIAN
METHOD:PUBLISH
X-WR-CALNAME:EmptyLegs.net
X-ORIGINAL-URL:https://emptylegs.net
X-WR-CALDESC:Events for EmptyLegs.net
REFRESH-INTERVAL;VALUE=DURATION:PT1H
X-Robots-Tag:noindex
X-PUBLISHED-TTL:PT1H
BEGIN:VTIMEZONE
TZID:America/New_York
BEGIN:DAYLIGHT
TZOFFSETFROM:-0500
TZOFFSETTO:-0400
TZNAME:EDT
DTSTART:20260308T070000
END:DAYLIGHT
BEGIN:STANDARD
TZOFFSETFROM:-0400
TZOFFSETTO:-0500
TZNAME:EST
DTSTART:20261101T060000
END:STANDARD
END:VTIMEZONE
BEGIN:VEVENT
DTSTART;TZID=America/New_York:20260422T185532
DTEND;TZID=America/New_York:20260422T185532
DTSTAMP:20260422T185532
CREATED:20231010T142040Z
LAST-MODIFIED:20231010T142754Z
UID:5432-1776884132-1776884132@emptylegs.net
SUMMARY:Major League Baseball World Series
DESCRIPTION:The MLB World Series\, Oct 27th-Nov 4th\, is the ultimate showdown in American baseball\, a culmination of the season’s hard-fought battles and fierce competition. For over a century\, this annual championship series has captivated fans with its thrilling games\, iconic moments\, and the pursuit of baseball glory. With the best teams from the American League and the National League facing off in a best-of-seven series\, the World Series is a spectacle of skill\, strategy\, and heart-pounding action. \nIt’s not just a sporting event; it’s a piece of American history\, where legends are born\, and champions are crowned. Whether you’re a die-hard fan or just looking for a taste of the excitement\, the MLB World Series is a must-watch event that brings the nation together every October.
URL:https://emptylegs.net/event/major-league-baseball-world-series/
CATEGORIES:Baseball,World Series
END:VEVENT
BEGIN:VEVENT
DTSTART;TZID=America/New_York:20260422T185532
DTEND;TZID=America/New_York:20260422T185532
DTSTAMP:20260422T185532
CREATED:20231010T135433Z
LAST-MODIFIED:20231010T143912Z
UID:5422-1776884132-1776884132@emptylegs.net
SUMMARY:The Day of the Dead
DESCRIPTION:The Day of the Dead\, Oct 31st-Nov 2nd\, an annual commemoration\, revolves around heartfelt gatherings of loved ones to offer prayers and fond remembrances for friends and family who have departed from this world. While this poignant tradition holds special significance in Mexico\, where it takes on the status of a national holiday\, it is also embraced by diverse cultures worldwide.  \nCentral to the observance are customs that include the creation of private altars known as “ofrendas\,” which serve as a sacred space for honoring the departed. These altars are adorned with intricate sugar skulls\, vibrant marigolds\, and an array of the deceased’s favorite foods and beverages\, creating a tangible connection between the living and the departed souls. \nA meaningful aspect of the tradition involves visiting gravesites bearing these offerings as tokens of love and remembrance. In various locales\, the Day of the Dead celebration takes on unique dimensions\, incorporating colorful parades and festivities reminiscent of Halloween. These festivities underscore the universal human desire to remember and celebrate the lives of those who have passed away\, uniting communities around the world in a shared embrace of this profound and deeply meaningful tradition.
URL:https://emptylegs.net/event/the-day-of-the-dead/
CATEGORIES:Festivals
END:VEVENT
END:VCALENDAR