BEGIN:VCALENDAR
VERSION:2.0
PRODID:-//EmptyLegs.net - ECPv6.13.2.1//NONSGML v1.0//EN
CALSCALE:GREGORIAN
METHOD:PUBLISH
X-WR-CALNAME:EmptyLegs.net
X-ORIGINAL-URL:https://emptylegs.net
X-WR-CALDESC:Events for EmptyLegs.net
REFRESH-INTERVAL;VALUE=DURATION:PT1H
X-Robots-Tag:noindex
X-PUBLISHED-TTL:PT1H
BEGIN:VTIMEZONE
TZID:America/New_York
BEGIN:DAYLIGHT
TZOFFSETFROM:-0500
TZOFFSETTO:-0400
TZNAME:EDT
DTSTART:20260308T070000
END:DAYLIGHT
BEGIN:STANDARD
TZOFFSETFROM:-0400
TZOFFSETTO:-0500
TZNAME:EST
DTSTART:20261101T060000
END:STANDARD
END:VTIMEZONE
BEGIN:VEVENT
DTSTART;TZID=America/New_York:20260423T033620
DTEND;TZID=America/New_York:20260423T033620
DTSTAMP:20260423T033620
CREATED:20230628T043222Z
LAST-MODIFIED:20230628T043250Z
UID:5124-1776915380-1776915380@emptylegs.net
SUMMARY:World Cup
DESCRIPTION:Serving as the pinnacle of Rugby\, the Rugby World Cup stands as the premier international rugby union competition\, held once every four years. The upcoming men’s Rugby World Cup\, the 10th edition\, is set to take place in France in 2023. Likewise\, the forthcoming women’s Rugby World Cup is scheduled to be held in New Zealand in 2022. \nSince its inaugural tournament in 1987\, the Rugby World Cup has captivated fans worldwide. Organized by the International Rugby Board (IRB)\, the governing body of the sport\, this prestigious event sees national teams from around the globe engage in qualifying matches to secure a coveted spot among the final 20 teams in the finals. \nAs the Rugby World Cup showcases the finest rugby talent\, the competition fosters fierce rivalries and showcases the pinnacle of skill and athleticism on the global stage. Rugby enthusiasts eagerly anticipate the tournament\, as it showcases the best of the sport and crowns the world champions every four years. \nCheck Flight Availability \nFollow us on Instagram
URL:https://emptylegs.net/event/world-cup/
CATEGORIES:Rugby,sporting events
END:VEVENT
BEGIN:VEVENT
DTSTART;TZID=America/New_York:20260423T033620
DTEND;TZID=America/New_York:20260423T033620
DTSTAMP:20260423T033620
CREATED:20231010T134544Z
LAST-MODIFIED:20231010T134544Z
UID:5419-1776915380-1776915380@emptylegs.net
SUMMARY:The Fort Lauderdale International Boat Show
DESCRIPTION:The Fort Lauderdale International Boat Show\, Oct 25th-29th\, is the greatest boat show on the seven seas. Owned by the Marine Industries Association of South Florida (MIASF) and produced by Informa Markets\, the Fort Lauderdale International Boat Show (FLIBS) is recognized as the largest in-water boat show in the world. Located steps from the beach in sunny South Florida\, FLIBS spans nearly 90 acres across three million square feet of exhibit space that is connected by an intricate network of water and ground transportation services. The five-day show attracted over 100\,000 attendees and 1\,000 exhibitors representing 52 countries with more than 1\,300 boats on display in 2022. Products range from superyachts to sunglasses and everything in between.
URL:https://emptylegs.net/event/the-fort-lauderdale-international-boat-show/
CATEGORIES:Boat Shows
END:VEVENT
BEGIN:VEVENT
DTSTART;TZID=America/New_York:20260423T033620
DTEND;TZID=America/New_York:20260423T033620
DTSTAMP:20260423T033620
CREATED:20231010T142040Z
LAST-MODIFIED:20231010T142754Z
UID:5432-1776915380-1776915380@emptylegs.net
SUMMARY:Major League Baseball World Series
DESCRIPTION:The MLB World Series\, Oct 27th-Nov 4th\, is the ultimate showdown in American baseball\, a culmination of the season’s hard-fought battles and fierce competition. For over a century\, this annual championship series has captivated fans with its thrilling games\, iconic moments\, and the pursuit of baseball glory. With the best teams from the American League and the National League facing off in a best-of-seven series\, the World Series is a spectacle of skill\, strategy\, and heart-pounding action. \nIt’s not just a sporting event; it’s a piece of American history\, where legends are born\, and champions are crowned. Whether you’re a die-hard fan or just looking for a taste of the excitement\, the MLB World Series is a must-watch event that brings the nation together every October.
URL:https://emptylegs.net/event/major-league-baseball-world-series/
CATEGORIES:Baseball,World Series
END:VEVENT
END:VCALENDAR