BEGIN:VCALENDAR
VERSION:2.0
PRODID:-//EmptyLegs.net - ECPv6.13.2.1//NONSGML v1.0//EN
CALSCALE:GREGORIAN
METHOD:PUBLISH
X-ORIGINAL-URL:https://emptylegs.net
X-WR-CALDESC:Events for EmptyLegs.net
REFRESH-INTERVAL;VALUE=DURATION:PT1H
X-Robots-Tag:noindex
X-PUBLISHED-TTL:PT1H
BEGIN:VTIMEZONE
TZID:America/New_York
BEGIN:DAYLIGHT
TZOFFSETFROM:-0500
TZOFFSETTO:-0400
TZNAME:EDT
DTSTART:20260308T070000
END:DAYLIGHT
BEGIN:STANDARD
TZOFFSETFROM:-0400
TZOFFSETTO:-0500
TZNAME:EST
DTSTART:20261101T060000
END:STANDARD
END:VTIMEZONE
BEGIN:VEVENT
DTSTART;TZID=America/New_York:20260423T073010
DTEND;TZID=America/New_York:20260423T073010
DTSTAMP:20260423T073010
CREATED:20230628T043222Z
LAST-MODIFIED:20230628T043250Z
UID:5124-1776929410-1776929410@emptylegs.net
SUMMARY:World Cup
DESCRIPTION:Serving as the pinnacle of Rugby\, the Rugby World Cup stands as the premier international rugby union competition\, held once every four years. The upcoming men’s Rugby World Cup\, the 10th edition\, is set to take place in France in 2023. Likewise\, the forthcoming women’s Rugby World Cup is scheduled to be held in New Zealand in 2022. \nSince its inaugural tournament in 1987\, the Rugby World Cup has captivated fans worldwide. Organized by the International Rugby Board (IRB)\, the governing body of the sport\, this prestigious event sees national teams from around the globe engage in qualifying matches to secure a coveted spot among the final 20 teams in the finals. \nAs the Rugby World Cup showcases the finest rugby talent\, the competition fosters fierce rivalries and showcases the pinnacle of skill and athleticism on the global stage. Rugby enthusiasts eagerly anticipate the tournament\, as it showcases the best of the sport and crowns the world champions every four years. \nCheck Flight Availability \nFollow us on Instagram
URL:https://emptylegs.net/event/world-cup/
CATEGORIES:Rugby,sporting events
END:VEVENT
BEGIN:VEVENT
DTSTART;TZID=America/New_York:20260423T073010
DTEND;TZID=America/New_York:20260423T073010
DTSTAMP:20260423T073010
CREATED:20231010T132449Z
LAST-MODIFIED:20231010T142519Z
UID:5413-1776929410-1776929410@emptylegs.net
SUMMARY:The BFI London Film Festival
DESCRIPTION:The BFI London Film Festival\, Oct 4th-15th\, often simply referred to as the London Film Festival\, stands as the United Kingdom’s most prominent public film extravaganza. This annual cinematic celebration\, now in its remarkable 55th year\, unfurls its cinematic tapestry in the latter half of October under the auspices of the British Film Institute. The festival’s magnitude is truly remarkable\, showcasing an extensive array of over 300 feature films\, documentaries\, and short films hailing from nearly 50 diverse countries. It serves as a global platform for the world’s cinematic diversity\, making it an essential cultural event on the international film calendar.
URL:https://emptylegs.net/event/the-bfi-london-film-festival/
CATEGORIES:Festivals,Film
END:VEVENT
BEGIN:VEVENT
DTSTART;TZID=America/New_York:20260423T073010
DTEND;TZID=America/New_York:20260423T073010
DTSTAMP:20260423T073010
CREATED:20231010T131818Z
LAST-MODIFIED:20231010T142624Z
UID:5410-1776929410-1776929410@emptylegs.net
SUMMARY:Albuquerque International Balloon Fiesta
DESCRIPTION:The Albuquerque International Balloon Fiesta\, held annually in Albuquerque\, New Mexico\, USA\, is a spectacular celebration of hot air balloons that occurs during the early days of October. This nine-day extravaganza boasts an impressive gathering of approximately 750 colorful balloons\, making it the grandest hot air balloon festival on the planet. The fiesta offers a breathtaking display of vibrant balloons ascending into the New Mexico skies\, creating a mesmerizing and unforgettable experience for attendees from around the globe. It’s safe to say that the Albuquerque International Balloon Fiesta is a truly unparalleled event that should not be missed by anyone seeking an awe-inspiring adventure in the world of hot air ballooning.
URL:https://emptylegs.net/event/albuquerque-international-balloon-fiesta/
CATEGORIES:Festivals
END:VEVENT
END:VCALENDAR