BEGIN:VCALENDAR
VERSION:2.0
PRODID:-//EmptyLegs.net - ECPv6.13.2.1//NONSGML v1.0//EN
CALSCALE:GREGORIAN
METHOD:PUBLISH
X-ORIGINAL-URL:https://emptylegs.net
X-WR-CALDESC:Events for EmptyLegs.net
REFRESH-INTERVAL;VALUE=DURATION:PT1H
X-Robots-Tag:noindex
X-PUBLISHED-TTL:PT1H
BEGIN:VTIMEZONE
TZID:America/New_York
BEGIN:DAYLIGHT
TZOFFSETFROM:-0500
TZOFFSETTO:-0400
TZNAME:EDT
DTSTART:20260308T070000
END:DAYLIGHT
BEGIN:STANDARD
TZOFFSETFROM:-0400
TZOFFSETTO:-0500
TZNAME:EST
DTSTART:20261101T060000
END:STANDARD
END:VTIMEZONE
BEGIN:VEVENT
DTSTART;TZID=America/New_York:20260425T112330
DTEND;TZID=America/New_York:20260425T112330
DTSTAMP:20260425T112330
CREATED:20230628T001622Z
LAST-MODIFIED:20230628T062405Z
UID:5118-1777116210-1777116210@emptylegs.net
SUMMARY:The US Open
DESCRIPTION:The US Open tennis tournament\, commonly known as the U.S. Open\, represents the fourth and culminating event among the prestigious Grand Slam tournaments. Held annually between August and September\, this tournament showcases the finest talents in the world of tennis. \nThe captivating matches take place at Flushing Meadows\, where players strive for victory on the Decoturf II surface\, composed of acrylic cement. While the tournament’s present surface is Decoturf II\, it’s worth noting that the U.S. Open has seen its fair share of transitions\, having been contested on both grass and clay courts in the past (for more information on tennis court surfaces). \nThe U.S. Open serves as a thrilling conclusion to the Grand Slam season\, capturing the attention of tennis enthusiasts worldwide and crowning champions who etch their names in the annals of tennis history. \nCheck Flight Availability \nFollow us on Facebook
URL:https://emptylegs.net/event/the-us-open/
CATEGORIES:tennis
END:VEVENT
END:VCALENDAR