BEGIN:VCALENDAR
VERSION:2.0
PRODID:-//EmptyLegs.net - ECPv6.13.2.1//NONSGML v1.0//EN
CALSCALE:GREGORIAN
METHOD:PUBLISH
X-WR-CALNAME:EmptyLegs.net
X-ORIGINAL-URL:https://emptylegs.net
X-WR-CALDESC:Events for EmptyLegs.net
REFRESH-INTERVAL;VALUE=DURATION:PT1H
X-Robots-Tag:noindex
X-PUBLISHED-TTL:PT1H
BEGIN:VTIMEZONE
TZID:America/New_York
BEGIN:DAYLIGHT
TZOFFSETFROM:-0500
TZOFFSETTO:-0400
TZNAME:EDT
DTSTART:20260308T070000
END:DAYLIGHT
BEGIN:STANDARD
TZOFFSETFROM:-0400
TZOFFSETTO:-0500
TZNAME:EST
DTSTART:20261101T060000
END:STANDARD
END:VTIMEZONE
BEGIN:VEVENT
DTSTART;TZID=America/New_York:20260425T142849
DTEND;TZID=America/New_York:20260425T142849
DTSTAMP:20260425T142849
CREATED:20230628T001622Z
LAST-MODIFIED:20230628T062405Z
UID:5118-1777127329-1777127329@emptylegs.net
SUMMARY:The US Open
DESCRIPTION:The US Open tennis tournament\, commonly known as the U.S. Open\, represents the fourth and culminating event among the prestigious Grand Slam tournaments. Held annually between August and September\, this tournament showcases the finest talents in the world of tennis. \nThe captivating matches take place at Flushing Meadows\, where players strive for victory on the Decoturf II surface\, composed of acrylic cement. While the tournament’s present surface is Decoturf II\, it’s worth noting that the U.S. Open has seen its fair share of transitions\, having been contested on both grass and clay courts in the past (for more information on tennis court surfaces). \nThe U.S. Open serves as a thrilling conclusion to the Grand Slam season\, capturing the attention of tennis enthusiasts worldwide and crowning champions who etch their names in the annals of tennis history. \nCheck Flight Availability \nFollow us on Facebook
URL:https://emptylegs.net/event/the-us-open/
CATEGORIES:tennis
END:VEVENT
BEGIN:VEVENT
DTSTART;TZID=America/New_York:20260425T142849
DTEND;TZID=America/New_York:20260425T142849
DTSTAMP:20260425T142849
CREATED:20230627T195418Z
LAST-MODIFIED:20230627T232801Z
UID:5055-1777127329-1777127329@emptylegs.net
SUMMARY:Electric Zoo Festival
DESCRIPTION:Introduced in 2009 by Made Event\, Electric Zoo Festival has become a globally acclaimed music extravaganza and one of the most colossal gatherings in New York City. Showcasing the crème de la crème of electronic music\, this festival welcomes a diverse array of artists from around the globe\, representing an extensive range of sub-genres within the electronic music realm. In addition to its flagship event in NYC\, Electric Zoo has also expanded its horizons with international editions held in Mexico City\, Tokyo\, Shanghai\, and São Paulo. \nCheck Flight Availability \nFollow us on Facebook
URL:https://emptylegs.net/event/electric-zoo-festival/
CATEGORIES:Festivals,Music
END:VEVENT
BEGIN:VEVENT
DTSTART;TZID=America/New_York:20260425T142849
DTEND;TZID=America/New_York:20260425T142849
DTSTAMP:20260425T142849
CREATED:20230628T053748Z
LAST-MODIFIED:20230628T053822Z
UID:5158-1777127329-1777127329@emptylegs.net
SUMMARY:Italian Grand Prix
DESCRIPTION:Let’s see who is the fastest! The Italian Grand Prix is a spectacle. At the Autodromo Nazionale Monza\, Formula 1 drivers encounter many straights\, where they can let their engine run at full speed. In between they have to break in time for the short chicanes on the Monza circuit. In Ferrari’s country\, more is at stake than just victory\, it’s about honor. \nCheck Flight Availability \nFollow us on Instagram
URL:https://emptylegs.net/event/italian-grand-prix/
CATEGORIES:car racing
END:VEVENT
BEGIN:VEVENT
DTSTART;TZID=America/New_York:20260425T142849
DTEND;TZID=America/New_York:20260425T142849
DTSTAMP:20260425T142849
CREATED:20230627T234225Z
LAST-MODIFIED:20230627T234817Z
UID:5101-1777127329-1777127329@emptylegs.net
SUMMARY:Regata Storica
DESCRIPTION:The Regata Storica in Venice is renowned worldwide as a vibrant tourist destination event\, celebrated for its picturesque sister islands adorned with a kaleidoscope of colors. The city’s tranquil azure waterways are known for their leisurely (albeit pricey) gondola rides\, which gracefully navigate the ebb and flow of the canals. However\, on the first Sunday of September\, Venice awakens to a distinctive flurry of activity. Rowers from far and wide encircle the city\, while avid fans of the sport gather to witness the annual races. \nThe atmosphere is electric as spectators line the canals\, immersing themselves in the exhilarating spectacle of rowing prowess. The excitement crescendos with a vibrant introductory parade\, where participants showcase their spirit along the picturesque waterways\, adding an extra layer of vivacity to the city’s enchanting ambiance. \nCheck Flight Availability \nFollow us on Instagram \n 
URL:https://emptylegs.net/event/regata-storica/
CATEGORIES:Boat Shows,Festivals
END:VEVENT
END:VCALENDAR