BEGIN:VCALENDAR
VERSION:2.0
PRODID:-//EmptyLegs.net - ECPv6.13.2.1//NONSGML v1.0//EN
CALSCALE:GREGORIAN
METHOD:PUBLISH
X-WR-CALNAME:EmptyLegs.net
X-ORIGINAL-URL:https://emptylegs.net
X-WR-CALDESC:Events for EmptyLegs.net
REFRESH-INTERVAL;VALUE=DURATION:PT1H
X-Robots-Tag:noindex
X-PUBLISHED-TTL:PT1H
BEGIN:VTIMEZONE
TZID:America/New_York
BEGIN:DAYLIGHT
TZOFFSETFROM:-0500
TZOFFSETTO:-0400
TZNAME:EDT
DTSTART:20260308T070000
END:DAYLIGHT
BEGIN:STANDARD
TZOFFSETFROM:-0400
TZOFFSETTO:-0500
TZNAME:EST
DTSTART:20261101T060000
END:STANDARD
END:VTIMEZONE
BEGIN:VEVENT
DTSTART;TZID=America/New_York:20260425T114803
DTEND;TZID=America/New_York:20260425T114803
DTSTAMP:20260425T114803
CREATED:20230628T052646Z
LAST-MODIFIED:20230628T062242Z
UID:5153-1777117683-1777117683@emptylegs.net
SUMMARY:Dutch Grand Prix
DESCRIPTION:The Dutch Grand Prix at Circuit Zandvoort is known as a real ‘old school’ track with fast\, banked and challenging corners\, shaped by the natural dunes. With a circuit length of 4.3 kilometres\, it ranks among the shorter tracks on the F1 calendar. Hardly anywhere else\, drivers zoom past the race fans this often! The short pit lane allows for three-stop strategies. Action guaranteed. \nCheck Flight Availability \nFollow us on Facebook
URL:https://emptylegs.net/event/dutch-grand-prix/
CATEGORIES:car racing
END:VEVENT
END:VCALENDAR