BEGIN:VCALENDAR
VERSION:2.0
PRODID:-//EmptyLegs.net - ECPv6.13.2.1//NONSGML v1.0//EN
CALSCALE:GREGORIAN
METHOD:PUBLISH
X-ORIGINAL-URL:https://emptylegs.net
X-WR-CALDESC:Events for EmptyLegs.net
REFRESH-INTERVAL;VALUE=DURATION:PT1H
X-Robots-Tag:noindex
X-PUBLISHED-TTL:PT1H
BEGIN:VTIMEZONE
TZID:America/New_York
BEGIN:DAYLIGHT
TZOFFSETFROM:-0500
TZOFFSETTO:-0400
TZNAME:EDT
DTSTART:20260308T070000
END:DAYLIGHT
BEGIN:STANDARD
TZOFFSETFROM:-0400
TZOFFSETTO:-0500
TZNAME:EST
DTSTART:20261101T060000
END:STANDARD
END:VTIMEZONE
BEGIN:VEVENT
DTSTART;TZID=America/New_York:20260425T202526
DTEND;TZID=America/New_York:20260425T202526
DTSTAMP:20260425T202526
CREATED:20230627T192822Z
LAST-MODIFIED:20230627T233159Z
UID:5044-1777148726-1777148726@emptylegs.net
SUMMARY:Outside Lands Music Festival
DESCRIPTION:Outside Lands is Northern California’s premiere music festival\, and I can personally say that it’s an absolute blast! It’s a local favorite among San Franciscans\, and there really is a special and relaxing festival vibe for these three days in Golden Gate Park. While tickets\, food\, and drink costs are rather high (like everything in SF)\, it’s an incredible event that you should definitely check out at least once!  \nCheck Flight Availability \nFollow us on Facebook
URL:https://emptylegs.net/event/outside-lands-music-festival/
CATEGORIES:Festivals,Music
END:VEVENT
END:VCALENDAR