BEGIN:VCALENDAR
VERSION:2.0
PRODID:-//EmptyLegs.net - ECPv6.13.2.1//NONSGML v1.0//EN
CALSCALE:GREGORIAN
METHOD:PUBLISH
X-ORIGINAL-URL:https://emptylegs.net
X-WR-CALDESC:Events for EmptyLegs.net
REFRESH-INTERVAL;VALUE=DURATION:PT1H
X-Robots-Tag:noindex
X-PUBLISHED-TTL:PT1H
BEGIN:VTIMEZONE
TZID:America/New_York
BEGIN:DAYLIGHT
TZOFFSETFROM:-0500
TZOFFSETTO:-0400
TZNAME:EDT
DTSTART:20260308T070000
END:DAYLIGHT
BEGIN:STANDARD
TZOFFSETFROM:-0400
TZOFFSETTO:-0500
TZNAME:EST
DTSTART:20261101T060000
END:STANDARD
END:VTIMEZONE
BEGIN:VEVENT
DTSTART;TZID=America/New_York:20260425T093118
DTEND;TZID=America/New_York:20260425T093118
DTSTAMP:20260425T093118
CREATED:20230627T230309Z
LAST-MODIFIED:20230627T230309Z
UID:5088-1777109478-1777109478@emptylegs.net
SUMMARY:Feria de Flores
DESCRIPTION:July and August in Colombia can be a bit unpredictable weather-wise\, but fear not! Medellin compensates for occasional overcast skies with a magnificent 10-day tribute to nature known as the Feria de Flores\, or Festival of the Flowers. Prepare to be enchanted by a dazzling display of locally cultivated\, intricately designed floral arrangements and floats\, taking center stage in the highly anticipated Parade of Silleteros. While it may seem difficult to judge these stunning creations\, the participants eagerly vie for the title of the most remarkable arrangement. With numerous categories available for each display to compete in\, there’s even a special category dedicated to the talented young participants\, ensuring a delightful experience for all ages. \nCheck Flight Availability \nFollow us on Facebook
URL:https://emptylegs.net/event/feria-de-flores/
CATEGORIES:Festivals
END:VEVENT
BEGIN:VEVENT
DTSTART;TZID=America/New_York:20260425T093118
DTEND;TZID=America/New_York:20260425T093118
DTSTAMP:20260425T093118
CREATED:20230627T194413Z
LAST-MODIFIED:20230627T233032Z
UID:5050-1777109478-1777109478@emptylegs.net
SUMMARY:Lollapalooza
DESCRIPTION:Lollapalooza\, the grandest and most extensive summer festival in Chicago\, unites the music industry’s top stars annually! Set amidst the stunning Grant Park\, against the backdrop of Chicago’s majestic skyline\, this four-day extravaganza promises to be an unforgettable highlight of your summer. And fear not\, for you can vanquish those post-festival hangovers with mouthwatering deep-dish pizza delicacies! \nCheck Flight Availability \nFollow us on Instagram
URL:https://emptylegs.net/event/lollapalooza/
CATEGORIES:Festivals,Music
END:VEVENT
END:VCALENDAR