BEGIN:VCALENDAR
VERSION:2.0
PRODID:-//EmptyLegs.net - ECPv6.13.2.1//NONSGML v1.0//EN
CALSCALE:GREGORIAN
METHOD:PUBLISH
X-WR-CALNAME:EmptyLegs.net
X-ORIGINAL-URL:https://emptylegs.net
X-WR-CALDESC:Events for EmptyLegs.net
REFRESH-INTERVAL;VALUE=DURATION:PT1H
X-Robots-Tag:noindex
X-PUBLISHED-TTL:PT1H
BEGIN:VTIMEZONE
TZID:America/New_York
BEGIN:DAYLIGHT
TZOFFSETFROM:-0500
TZOFFSETTO:-0400
TZNAME:EDT
DTSTART:20260308T070000
END:DAYLIGHT
BEGIN:STANDARD
TZOFFSETFROM:-0400
TZOFFSETTO:-0500
TZNAME:EST
DTSTART:20261101T060000
END:STANDARD
END:VTIMEZONE
BEGIN:VEVENT
DTSTART;TZID=America/New_York:20260425T142513
DTEND;TZID=America/New_York:20260425T142513
DTSTAMP:20260425T142513
CREATED:20230627T203626Z
LAST-MODIFIED:20230627T230512Z
UID:5075-1777127113-1777127113@emptylegs.net
SUMMARY:Gion Matsuri
DESCRIPTION:Gion Matsuri\, without a doubt the grandest festival in Kyoto and throughout Japan\, holds a rich historical significance. Its origins can be traced back to the year 839\, a time marked by a devastating plague. In their earnest attempts to appease the deities\, the residents of Kyoto offered a child messenger as a solemn offering. \nIn the present day\, a young boy is carefully selected to grace an opulent parade float\, among many others\, where he remains suspended without his feet touching the ground for four days leading up to the culmination of the first procession on July 17th. The second grand parade takes place on July 24th\, but the entire month is permeated with exuberance\, all-night celebrations\, and a delectable array of street food. \nUnquestionably\, Gion Matsuri attracts an immense influx of visitors to Kyoto\, making it one of the busiest periods to explore the city. To fully immerse yourself in the vibrant atmosphere of both the festival and the city itself\, it is advisable to make your travel arrangements several months in advance\, as hotel prices may experience a slight increase during this time. \nCheck Flight Availability \nFollow us on Instagram
URL:https://emptylegs.net/event/gion-matsuri/
CATEGORIES:Festivals
END:VEVENT
BEGIN:VEVENT
DTSTART;TZID=America/New_York:20260425T142513
DTEND;TZID=America/New_York:20260425T142513
DTSTAMP:20260425T142513
CREATED:20230627T230309Z
LAST-MODIFIED:20230627T230309Z
UID:5088-1777127113-1777127113@emptylegs.net
SUMMARY:Feria de Flores
DESCRIPTION:July and August in Colombia can be a bit unpredictable weather-wise\, but fear not! Medellin compensates for occasional overcast skies with a magnificent 10-day tribute to nature known as the Feria de Flores\, or Festival of the Flowers. Prepare to be enchanted by a dazzling display of locally cultivated\, intricately designed floral arrangements and floats\, taking center stage in the highly anticipated Parade of Silleteros. While it may seem difficult to judge these stunning creations\, the participants eagerly vie for the title of the most remarkable arrangement. With numerous categories available for each display to compete in\, there’s even a special category dedicated to the talented young participants\, ensuring a delightful experience for all ages. \nCheck Flight Availability \nFollow us on Facebook
URL:https://emptylegs.net/event/feria-de-flores/
CATEGORIES:Festivals
END:VEVENT
END:VCALENDAR